BEGIN:VCALENDAR
VERSION:2.0
PRODID:-//Sparrow Motorsports - ECPv6.13.2.1//NONSGML v1.0//EN
CALSCALE:GREGORIAN
METHOD:PUBLISH
X-ORIGINAL-URL:https://www.sparrowmotorsports.com
X-WR-CALDESC:Events for Sparrow Motorsports
REFRESH-INTERVAL;VALUE=DURATION:PT1H
X-Robots-Tag:noindex
X-PUBLISHED-TTL:PT1H
BEGIN:VTIMEZONE
TZID:UTC
BEGIN:STANDARD
TZOFFSETFROM:+0000
TZOFFSETTO:+0000
TZNAME:UTC
DTSTART:20210101T000000
END:STANDARD
END:VTIMEZONE
BEGIN:VEVENT
DTSTART;TZID=UTC:20210402T000000
DTEND;TZID=UTC:20210403T235900
DTSTAMP:20260423T224033
CREATED:20210316T174124Z
LAST-MODIFIED:20210316T224840Z
UID:349-1617321600-1617494340@www.sparrowmotorsports.com
SUMMARY:Beatdown at Area BFE
DESCRIPTION:If you will be in Moab for Easter Jeep Safari make sure to head to Area BFE and watch the live action of Ultra4 racing! If you can’t make it in person be sure to tune in to the live feed and catch all the action from home!
URL:https://www.sparrowmotorsports.com/event/beatdown-at-area-bfe/
LOCATION:Area BFE\, Moab\, Utah
CATEGORIES:Race
END:VEVENT
BEGIN:VEVENT
DTSTART;VALUE=DATE:20210129
DTEND;VALUE=DATE:20210207
DTSTAMP:20260423T224033
CREATED:20200925T172843Z
LAST-MODIFIED:20200925T172848Z
UID:342-1611878400-1612655999@www.sparrowmotorsports.com
SUMMARY:King of The Hammers
DESCRIPTION:
URL:https://www.sparrowmotorsports.com/event/king-of-the-hammers/
LOCATION:Johnson Valley\, California
CATEGORIES:Race
END:VEVENT
END:VCALENDAR